Package: PIPETS Version: 1.7.0 Command: /Library/Frameworks/R.framework/Resources/bin/R CMD build --keep-empty-dirs --no-resave-data PIPETS StartedAt: 2025-11-14 17:17:23 -0500 (Fri, 14 Nov 2025) EndedAt: 2025-11-14 17:17:31 -0500 (Fri, 14 Nov 2025) EllapsedTime: 8.1 seconds RetCode: 0 Status: OK PackageFile: PIPETS_1.7.0.tar.gz PackageFileSize: 2.882 MiB