Package: PIPETS Version: 1.7.0 Command: rm -rf PIPETS.buildbin-libdir && mkdir PIPETS.buildbin-libdir && /Users/biocbuild/BBS/utils/build-universal.sh PIPETS_1.7.0.tar.gz /Library/Frameworks/R.framework/Resources/bin/R PIPETS.buildbin-libdir StartedAt: 2025-11-14 23:45:32 -0500 (Fri, 14 Nov 2025) EndedAt: 2025-11-14 23:45:38 -0500 (Fri, 14 Nov 2025) EllapsedTime: 6.2 seconds RetCode: 0 Status: OK PackageFile: PIPETS_1.7.0.tgz PackageFileSize: 1.311 MiB