Package: PIPETS Version: 1.7.0 Maintainer: Quinlan Furumo MaintainerEmail: furumo at bc.edu git_url: https://git.bioconductor.org/packages/PIPETS git_branch: devel git_last_commit: 6146b1f git_last_commit_date: 2025-10-29 11:27:41 -0500 (Wed, 29 Oct 2025)