Package: PICB Version: 1.3.0 Command: /Library/Frameworks/R.framework/Resources/bin/R CMD build --keep-empty-dirs --no-resave-data PICB StartedAt: 2025-11-13 17:20:11 -0500 (Thu, 13 Nov 2025) EndedAt: 2025-11-13 17:20:50 -0500 (Thu, 13 Nov 2025) EllapsedTime: 39.4 seconds RetCode: 0 Status: OK PackageFile: PICB_1.3.0.tar.gz PackageFileSize: 4.678 MiB