Package: PICB Version: 1.3.0 Command: rm -rf PICB.buildbin-libdir && mkdir PICB.buildbin-libdir && /Users/biocbuild/BBS/utils/build-universal.sh PICB_1.3.0.tar.gz /Library/Frameworks/R.framework/Resources/bin/R PICB.buildbin-libdir StartedAt: 2025-11-13 23:50:22 -0500 (Thu, 13 Nov 2025) EndedAt: 2025-11-13 23:50:24 -0500 (Thu, 13 Nov 2025) EllapsedTime: 2.0 seconds RetCode: 0 Status: OK PackageFile: PICB_1.3.0.tgz PackageFileSize: 4.69 MiB