Package: PECA Version: 1.47.0 Command: /Library/Frameworks/R.framework/Resources/bin/R CMD INSTALL PECA StartedAt: 2025-11-14 15:10:44 -0500 (Fri, 14 Nov 2025) EndedAt: 2025-11-14 15:10:54 -0500 (Fri, 14 Nov 2025) EllapsedTime: 9.9 seconds RetCode: 0 Status: OK