Package: PECA Version: 1.47.0 Command: /Library/Frameworks/R.framework/Resources/bin/R CMD build --keep-empty-dirs --no-resave-data PECA StartedAt: 2025-11-14 17:16:09 -0500 (Fri, 14 Nov 2025) EndedAt: 2025-11-14 17:16:27 -0500 (Fri, 14 Nov 2025) EllapsedTime: 18.2 seconds RetCode: 0 Status: OK PackageFile: PECA_1.47.0.tar.gz PackageFileSize: 214.6 KiB