Package: PECA Version: 1.47.0 Command: rm -rf PECA.buildbin-libdir && mkdir PECA.buildbin-libdir && /Users/biocbuild/BBS/utils/build-universal.sh PECA_1.47.0.tar.gz /Library/Frameworks/R.framework/Resources/bin/R PECA.buildbin-libdir StartedAt: 2025-11-14 23:45:11 -0500 (Fri, 14 Nov 2025) EndedAt: 2025-11-14 23:45:22 -0500 (Fri, 14 Nov 2025) EllapsedTime: 10.3 seconds RetCode: 0 Status: OK PackageFile: PECA_1.47.0.tgz PackageFileSize: 224.5 KiB