Package: PDATK Version: 1.19.0 Command: /home/biocbuild/bbs-3.23-bioc/R/bin/R CMD build --keep-empty-dirs --no-resave-data PDATK StartedAt: 2025-11-14 19:13:19 -0500 (Fri, 14 Nov 2025) EndedAt: 2025-11-14 19:15:05 -0500 (Fri, 14 Nov 2025) EllapsedTime: 106.1 seconds RetCode: 0 Status: OK PackageFile: PDATK_1.19.0.tar.gz PackageFileSize: 3.004 MiB