Package: PDATK Version: 1.19.0 Command: /Library/Frameworks/R.framework/Resources/bin/R CMD build --keep-empty-dirs --no-resave-data PDATK StartedAt: 2025-11-14 17:15:39 -0500 (Fri, 14 Nov 2025) EndedAt: 2025-11-14 17:16:24 -0500 (Fri, 14 Nov 2025) EllapsedTime: 45.5 seconds RetCode: 0 Status: OK PackageFile: PDATK_1.19.0.tar.gz PackageFileSize: 3.004 MiB