Package: PDATK Version: 1.19.0 Maintainer: Benjamin Haibe-Kains MaintainerEmail: benjamin.haibe.kains at utoronto.ca git_url: https://git.bioconductor.org/packages/PDATK git_branch: devel git_last_commit: 16dbbfe git_last_commit_date: 2025-10-29 11:06:36 -0500 (Wed, 29 Oct 2025)