Package: PCAtools Version: 2.23.0 Command: /home/biocbuild/bbs-3.23-bioc/R/bin/R CMD build --keep-empty-dirs --no-resave-data PCAtools StartedAt: 2025-11-11 19:18:22 -0500 (Tue, 11 Nov 2025) EndedAt: 2025-11-11 19:20:41 -0500 (Tue, 11 Nov 2025) EllapsedTime: 138.1 seconds RetCode: 1 Status: ERROR PackageFile: None PackageFileSize: NA