Package: PCAtools Version: 2.23.0 Command: /Library/Frameworks/R.framework/Resources/bin/R CMD INSTALL PCAtools StartedAt: 2025-11-12 15:43:43 -0500 (Wed, 12 Nov 2025) EndedAt: 2025-11-12 15:43:56 -0500 (Wed, 12 Nov 2025) EllapsedTime: 12.7 seconds RetCode: 0 Status: OK