Package: PCAtools Version: 2.23.0 Command: /Library/Frameworks/R.framework/Resources/bin/R CMD build --keep-empty-dirs --no-resave-data PCAtools StartedAt: 2025-11-12 16:55:10 -0500 (Wed, 12 Nov 2025) EndedAt: 2025-11-12 16:56:06 -0500 (Wed, 12 Nov 2025) EllapsedTime: 55.7 seconds RetCode: 1 Status: ERROR PackageFile: None PackageFileSize: NA