Package: PCAN Version: 1.39.0 Command: /home/biocbuild/bbs-3.23-bioc/R/bin/R CMD INSTALL PCAN StartedAt: 2025-11-13 15:04:35 -0500 (Thu, 13 Nov 2025) EndedAt: 2025-11-13 15:05:01 -0500 (Thu, 13 Nov 2025) EllapsedTime: 26.8 seconds RetCode: 0 Status: OK