Package: PCAN Version: 1.39.0 Command: /home/biocbuild/bbs-3.23-bioc/R/bin/R CMD build --keep-empty-dirs --no-resave-data PCAN StartedAt: 2025-11-14 19:13:12 -0500 (Fri, 14 Nov 2025) EndedAt: 2025-11-14 19:14:06 -0500 (Fri, 14 Nov 2025) EllapsedTime: 54.1 seconds RetCode: 0 Status: OK PackageFile: PCAN_1.39.0.tar.gz PackageFileSize: 2.587 MiB