Package: PCAN Version: 1.39.0 Command: /Library/Frameworks/R.framework/Resources/bin/R CMD INSTALL PCAN StartedAt: 2025-11-14 15:03:21 -0500 (Fri, 14 Nov 2025) EndedAt: 2025-11-14 15:03:31 -0500 (Fri, 14 Nov 2025) EllapsedTime: 9.2 seconds RetCode: 0 Status: OK