Package: PCAN Version: 1.39.0 Command: /Library/Frameworks/R.framework/Resources/bin/R CMD build --keep-empty-dirs --no-resave-data PCAN StartedAt: 2025-11-14 17:15:32 -0500 (Fri, 14 Nov 2025) EndedAt: 2025-11-14 17:15:59 -0500 (Fri, 14 Nov 2025) EllapsedTime: 27.3 seconds RetCode: 0 Status: OK PackageFile: PCAN_1.39.0.tar.gz PackageFileSize: 2.565 MiB