Package: PCAN Version: 1.39.0 Maintainer: Matthew Page and Patrice Godard MaintainerEmail: patrice.godard at gmail.com git_url: https://git.bioconductor.org/packages/PCAN git_branch: devel git_last_commit: 207c5ab git_last_commit_date: 2025-10-29 10:30:42 -0500 (Wed, 29 Oct 2025)