Package: PAST Version: 1.27.0 Command: /home/biocbuild/bbs-3.23-bioc/R/bin/R CMD INSTALL PAST StartedAt: 2025-11-14 15:27:42 -0500 (Fri, 14 Nov 2025) EndedAt: 2025-11-14 15:28:16 -0500 (Fri, 14 Nov 2025) EllapsedTime: 34.0 seconds RetCode: 0 Status: OK