Package: PAST Version: 1.27.0 Command: /Library/Frameworks/R.framework/Resources/bin/R CMD INSTALL PAST StartedAt: 2025-11-14 15:16:50 -0500 (Fri, 14 Nov 2025) EndedAt: 2025-11-14 15:17:04 -0500 (Fri, 14 Nov 2025) EllapsedTime: 14.0 seconds RetCode: 0 Status: OK