Package: PAST Version: 1.27.0 Command: /Library/Frameworks/R.framework/Resources/bin/R CMD build --keep-empty-dirs --no-resave-data PAST StartedAt: 2025-11-14 17:14:53 -0500 (Fri, 14 Nov 2025) EndedAt: 2025-11-14 17:15:44 -0500 (Fri, 14 Nov 2025) EllapsedTime: 50.6 seconds RetCode: 0 Status: OK PackageFile: PAST_1.27.0.tar.gz PackageFileSize: 954.4 KiB