Package: PAST Version: 1.27.0 Command: rm -rf PAST.buildbin-libdir && mkdir PAST.buildbin-libdir && /Users/biocbuild/BBS/utils/build-universal.sh PAST_1.27.0.tar.gz /Library/Frameworks/R.framework/Resources/bin/R PAST.buildbin-libdir StartedAt: 2025-11-14 23:45:01 -0500 (Fri, 14 Nov 2025) EndedAt: 2025-11-14 23:45:19 -0500 (Fri, 14 Nov 2025) EllapsedTime: 17.5 seconds RetCode: 0 Status: OK PackageFile: PAST_1.27.0.tgz PackageFileSize: 1010 KiB