Package: PANR Version: 1.57.0 Command: /Library/Frameworks/R.framework/Resources/bin/R CMD INSTALL PANR StartedAt: 2025-11-23 15:03:48 -0500 (Sun, 23 Nov 2025) EndedAt: 2025-11-23 15:03:57 -0500 (Sun, 23 Nov 2025) EllapsedTime: 9.9 seconds RetCode: 0 Status: OK