Package: PANR Version: 1.57.0 Command: /Library/Frameworks/R.framework/Resources/bin/R CMD build --keep-empty-dirs --no-resave-data PANR StartedAt: 2025-11-23 17:15:30 -0500 (Sun, 23 Nov 2025) EndedAt: 2025-11-23 17:15:42 -0500 (Sun, 23 Nov 2025) EllapsedTime: 12.1 seconds RetCode: 0 Status: OK PackageFile: PANR_1.57.0.tar.gz PackageFileSize: 2.113 MiB