Package: PANR Version: 1.57.0 Command: rm -rf PANR.buildbin-libdir && mkdir PANR.buildbin-libdir && /Users/biocbuild/BBS/utils/build-universal.sh PANR_1.57.0.tar.gz /Library/Frameworks/R.framework/Resources/bin/R PANR.buildbin-libdir StartedAt: 2025-11-23 23:47:58 -0500 (Sun, 23 Nov 2025) EndedAt: 2025-11-23 23:48:02 -0500 (Sun, 23 Nov 2025) EllapsedTime: 4.2 seconds RetCode: 0 Status: OK PackageFile: PANR_1.57.0.tgz PackageFileSize: 2.14 MiB