Package: PAIRADISE Version: 1.27.0 Command: /Library/Frameworks/R.framework/Resources/bin/R CMD INSTALL PAIRADISE StartedAt: 2025-11-26 15:15:08 -0500 (Wed, 26 Nov 2025) EndedAt: 2025-11-26 15:15:16 -0500 (Wed, 26 Nov 2025) EllapsedTime: 8.4 seconds RetCode: 0 Status: OK