Package: PAIRADISE Version: 1.27.0 Command: /Library/Frameworks/R.framework/Resources/bin/R CMD build --keep-empty-dirs --no-resave-data PAIRADISE StartedAt: 2025-11-26 17:14:21 -0500 (Wed, 26 Nov 2025) EndedAt: 2025-11-26 17:14:42 -0500 (Wed, 26 Nov 2025) EllapsedTime: 20.2 seconds RetCode: 0 Status: OK PackageFile: PAIRADISE_1.27.0.tar.gz PackageFileSize: 320.6 KiB