Package: PAIRADISE Version: 1.27.0 Command: rm -rf PAIRADISE.buildbin-libdir && mkdir PAIRADISE.buildbin-libdir && /Users/biocbuild/BBS/utils/build-universal.sh PAIRADISE_1.27.0.tar.gz /Library/Frameworks/R.framework/Resources/bin/R PAIRADISE.buildbin-libdir StartedAt: 2025-11-26 23:46:05 -0500 (Wed, 26 Nov 2025) EndedAt: 2025-11-26 23:46:15 -0500 (Wed, 26 Nov 2025) EllapsedTime: 10.3 seconds RetCode: 0 Status: OK PackageFile: PAIRADISE_1.27.0.tgz PackageFileSize: 383.3 KiB