Package: PADOG Version: 1.53.0 Command: /home/biocbuild/bbs-3.23-bioc/R/bin/R CMD INSTALL PADOG StartedAt: 2025-11-11 15:33:09 -0500 (Tue, 11 Nov 2025) EndedAt: 2025-11-11 15:33:23 -0500 (Tue, 11 Nov 2025) EllapsedTime: 14.2 seconds RetCode: 0 Status: OK