Package: PADOG Version: 1.53.0 Command: /Library/Frameworks/R.framework/Resources/bin/R CMD INSTALL PADOG StartedAt: 2025-11-12 15:32:18 -0500 (Wed, 12 Nov 2025) EndedAt: 2025-11-12 15:32:23 -0500 (Wed, 12 Nov 2025) EllapsedTime: 5.3 seconds RetCode: 0 Status: OK