Package: PADOG Version: 1.53.0 Command: /Library/Frameworks/R.framework/Resources/bin/R CMD build --keep-empty-dirs --no-resave-data PADOG StartedAt: 2025-11-12 16:53:26 -0500 (Wed, 12 Nov 2025) EndedAt: 2025-11-12 16:54:29 -0500 (Wed, 12 Nov 2025) EllapsedTime: 62.8 seconds RetCode: 0 Status: OK PackageFile: PADOG_1.53.0.tar.gz PackageFileSize: 369.4 KiB