Package: PADOG Version: 1.53.0 Command: rm -rf PADOG.buildbin-libdir && mkdir PADOG.buildbin-libdir && /Users/biocbuild/BBS/utils/build-universal.sh PADOG_1.53.0.tar.gz /Library/Frameworks/R.framework/Resources/bin/R PADOG.buildbin-libdir StartedAt: 2025-11-12 21:05:39 -0500 (Wed, 12 Nov 2025) EndedAt: 2025-11-12 21:05:46 -0500 (Wed, 12 Nov 2025) EllapsedTime: 7.1 seconds RetCode: 0 Status: OK PackageFile: PADOG_1.53.0.tgz PackageFileSize: 400.4 KiB