Back to Build/check report for BioC 3.23:   simplified   long
ABCDEFGHIJKLMNO[P]QRSTUVWXYZ

This page was generated on 2025-11-13 11:32 -0500 (Thu, 13 Nov 2025).

HostnameOSArch (*)R versionInstalled pkgs
kjohnson3macOS 13.7.7 Venturaarm64R Under development (unstable) (2025-11-04 r88984) -- "Unsuffered Consequences" 4013
Click on any hostname to see more info about the system (e.g. compilers)      (*) as reported by 'uname -p', except on Windows and Mac OS X

All results for package PADOG


To the developers/maintainers of the PADOG package:
- Allow up to 24 hours (and sometimes 48 hours) for your latest push to git@git.bioconductor.org:packages/PADOG.git to reflect on this report. See Troubleshooting Build Report for more information.
- Use the following Renviron settings to reproduce errors and warnings.
- If 'R CMD check' started to fail recently on the Linux builder(s) over a missing dependency, add the missing dependency to 'Suggests:' in your DESCRIPTION file. See Renviron.bioc for more information.

raw results

Package 1518/2325HostnameOS / ArchINSTALLBUILDCHECKBUILD BIN
PADOG 1.53.0  (landing page)
Adi L. Tarca
Snapshot Date: 2025-11-12 13:40 -0500 (Wed, 12 Nov 2025)
git_url: https://git.bioconductor.org/packages/PADOG
git_branch: devel
git_last_commit: 4e53350
git_last_commit_date: 2025-10-29 10:11:37 -0500 (Wed, 29 Oct 2025)
kjohnson3macOS 13.7.7 Ventura / arm64  OK    OK    OK    OK  YES



Results for Bioconductor software packages that depend directly on package PADOG

QUICK STATSOS / ArchINSTALLBUILDCHECKBUILD BIN
kjohnson3macOS 13.7.7 Ventura / arm64
011
011
0001
001
Package 1/2HostnameOS / ArchINSTALLBUILDCHECKBUILD BIN
BLMA 1.35.0  (landing page)
Van-Dung Pham
git_last_commit: 2a54068
git_last_commit_date: 2025-10-29 10:38:21 -0500
kjohnson3macOS 13.7.7 Ventura / arm64  OK    OK    OK    OK  YES
Package 2/2HostnameOS / ArchINSTALLBUILDCHECKBUILD BIN
EGSEA 1.39.0  (landing page)
Monther Alhamdoosh
git_last_commit: ea1d07d
git_last_commit_date: 2025-10-29 10:32:11 -0500
kjohnson3macOS 13.7.7 Ventura / arm64  ERROR    ERROR  skippedskipped