Package: PAA Version: 1.45.0 Command: /Library/Frameworks/R.framework/Resources/bin/R CMD INSTALL PAA StartedAt: 2025-11-14 15:20:26 -0500 (Fri, 14 Nov 2025) EndedAt: 2025-11-14 15:20:39 -0500 (Fri, 14 Nov 2025) EllapsedTime: 13.4 seconds RetCode: 0 Status: OK