Package: PAA Version: 1.45.0 Command: /Library/Frameworks/R.framework/Resources/bin/R CMD build --keep-empty-dirs --no-resave-data PAA StartedAt: 2025-11-14 17:13:36 -0500 (Fri, 14 Nov 2025) EndedAt: 2025-11-14 17:14:35 -0500 (Fri, 14 Nov 2025) EllapsedTime: 59.6 seconds RetCode: 0 Status: OK PackageFile: PAA_1.45.0.tar.gz PackageFileSize: 3.739 MiB