Package: PAA Version: 1.45.0 Command: rm -rf PAA.buildbin-libdir && mkdir PAA.buildbin-libdir && /Users/biocbuild/BBS/utils/build-universal.sh PAA_1.45.0.tar.gz /Library/Frameworks/R.framework/Resources/bin/R PAA.buildbin-libdir StartedAt: 2025-11-14 23:44:45 -0500 (Fri, 14 Nov 2025) EndedAt: 2025-11-14 23:45:02 -0500 (Fri, 14 Nov 2025) EllapsedTime: 17.4 seconds RetCode: 0 Status: OK PackageFile: PAA_1.45.0.tgz PackageFileSize: 3.987 MiB