Package: PAA Version: 1.45.0 Maintainer: Michael Turewicz , Martin Eisenacher MaintainerEmail: martin.eisenacher at rub.de git_url: https://git.bioconductor.org/packages/PAA git_branch: devel git_last_commit: dfb636c git_last_commit_date: 2025-10-29 10:22:06 -0500 (Wed, 29 Oct 2025)