Package: OutSplice Version: 1.11.0 Command: /home/biocbuild/bbs-3.23-bioc/R/bin/R CMD INSTALL OutSplice StartedAt: 2025-11-11 16:02:56 -0500 (Tue, 11 Nov 2025) EndedAt: 2025-11-11 16:03:30 -0500 (Tue, 11 Nov 2025) EllapsedTime: 34.3 seconds RetCode: 0 Status: OK