Package: OutSplice Version: 1.11.0 Command: /Library/Frameworks/R.framework/Resources/bin/R CMD INSTALL OutSplice StartedAt: 2025-11-12 15:45:59 -0500 (Wed, 12 Nov 2025) EndedAt: 2025-11-12 15:46:13 -0500 (Wed, 12 Nov 2025) EllapsedTime: 14.4 seconds RetCode: 0 Status: OK