Package: OutSplice Version: 1.11.0 Command: /Library/Frameworks/R.framework/Resources/bin/R CMD build --keep-empty-dirs --no-resave-data OutSplice StartedAt: 2025-11-13 17:16:14 -0500 (Thu, 13 Nov 2025) EndedAt: 2025-11-13 17:16:49 -0500 (Thu, 13 Nov 2025) EllapsedTime: 35.4 seconds RetCode: 0 Status: OK PackageFile: OutSplice_1.11.0.tar.gz PackageFileSize: 3.863 MiB