Package: OutSplice Version: 1.11.0 Command: rm -rf OutSplice.buildbin-libdir && mkdir OutSplice.buildbin-libdir && /Users/biocbuild/BBS/utils/build-universal.sh OutSplice_1.11.0.tar.gz /Library/Frameworks/R.framework/Resources/bin/R OutSplice.buildbin-libdir StartedAt: 2025-11-13 23:49:37 -0500 (Thu, 13 Nov 2025) EndedAt: 2025-11-13 23:49:54 -0500 (Thu, 13 Nov 2025) EllapsedTime: 17.4 seconds RetCode: 0 Status: OK PackageFile: OutSplice_1.11.0.tgz PackageFileSize: 3.905 MiB