Package: OutSplice Version: 1.11.0 Maintainer: Theresa Guo MaintainerEmail: twguo at health.ucsd.edu git_url: https://git.bioconductor.org/packages/OutSplice git_branch: devel git_last_commit: 14e6259 git_last_commit_date: 2025-10-29 11:23:03 -0500 (Wed, 29 Oct 2025)