Package: Oscope Version: 1.41.0 Maintainer: Ning Leng MaintainerEmail: lengning1 at gmail.com git_url: https://git.bioconductor.org/packages/Oscope git_branch: devel git_last_commit: ea1d186 git_last_commit_date: 2025-10-29 10:27:05 -0500 (Wed, 29 Oct 2025)