Package: Organism.dplyr Version: 1.39.0 Command: /Library/Frameworks/R.framework/Resources/bin/R CMD INSTALL Organism.dplyr StartedAt: 2025-11-13 15:22:01 -0500 (Thu, 13 Nov 2025) EndedAt: 2025-11-13 15:22:17 -0500 (Thu, 13 Nov 2025) EllapsedTime: 15.8 seconds RetCode: 0 Status: OK