Package: Organism.dplyr Version: 1.39.0 Command: /Library/Frameworks/R.framework/Resources/bin/R CMD build --keep-empty-dirs --no-resave-data Organism.dplyr StartedAt: 2025-11-13 17:15:17 -0500 (Thu, 13 Nov 2025) EndedAt: 2025-11-13 17:15:47 -0500 (Thu, 13 Nov 2025) EllapsedTime: 30.3 seconds RetCode: 0 Status: OK PackageFile: Organism.dplyr_1.39.0.tar.gz PackageFileSize: 527.7 KiB