Package: Organism.dplyr Version: 1.39.0 Command: rm -rf Organism.dplyr.buildbin-libdir && mkdir Organism.dplyr.buildbin-libdir && /Users/biocbuild/BBS/utils/build-universal.sh Organism.dplyr_1.39.0.tar.gz /Library/Frameworks/R.framework/Resources/bin/R Organism.dplyr.buildbin-libdir StartedAt: 2025-11-13 23:49:30 -0500 (Thu, 13 Nov 2025) EndedAt: 2025-11-13 23:49:49 -0500 (Thu, 13 Nov 2025) EllapsedTime: 19.4 seconds RetCode: 0 Status: OK PackageFile: Organism.dplyr_1.39.0.tgz PackageFileSize: 891 KiB