Package: Organism.dplyr Version: 1.39.0 Maintainer: Martin Morgan MaintainerEmail: martin.morgan at roswellpark.org git_url: https://git.bioconductor.org/packages/Organism.dplyr git_branch: devel git_last_commit: 538153f git_last_commit_date: 2025-10-29 10:37:10 -0500 (Wed, 29 Oct 2025)