Package: OrderedList Version: 1.83.0 Command: /Library/Frameworks/R.framework/Resources/bin/R CMD build --keep-empty-dirs --no-resave-data OrderedList StartedAt: 2025-11-13 17:15:03 -0500 (Thu, 13 Nov 2025) EndedAt: 2025-11-13 17:16:32 -0500 (Thu, 13 Nov 2025) EllapsedTime: 88.9 seconds RetCode: 0 Status: OK PackageFile: OrderedList_1.83.0.tar.gz PackageFileSize: 1.052 MiB