Package: OrderedList Version: 1.83.0 Command: rm -rf OrderedList.buildbin-libdir && mkdir OrderedList.buildbin-libdir && /Users/biocbuild/BBS/utils/build-universal.sh OrderedList_1.83.0.tar.gz /Library/Frameworks/R.framework/Resources/bin/R OrderedList.buildbin-libdir StartedAt: 2025-11-13 23:49:27 -0500 (Thu, 13 Nov 2025) EndedAt: 2025-11-13 23:49:30 -0500 (Thu, 13 Nov 2025) EllapsedTime: 3.0 seconds RetCode: 0 Status: OK PackageFile: OrderedList_1.83.0.tgz PackageFileSize: 1.11 MiB